BEGIN:VCALENDAR
VERSION:2.0
PRODID:-//Plone.org//NONSGML plone.app.event//EN
X-WR-TIMEZONE:Europe/Madrid
BEGIN:VEVENT
SUMMARY:FEM IoT
DTSTART;TZID=Europe/Madrid:20190501T130000
DTEND;TZID=Europe/Madrid:20220430T140000
DTSTAMP:20260420T141609Z
UID:5ee274df2f594ad39ad1cb68019113f4@agrotech.upc.edu
CATEGORIES:WNG,Digitalitzacio
CREATED:20250424T114347Z
DESCRIPTION:Estratègia de recerca i innovació per a l'especialització i
 ntel·ligent de Catalunya (RIS3CAT)
LAST-MODIFIED:20250530T124016Z
URL:https://agrotech.upc.edu/ca/projectes-esdeveniments/fem-iot
END:VEVENT
BEGIN:VTIMEZONE
TZID:Europe/Madrid
X-LIC-LOCATION:Europe/Madrid
BEGIN:DAYLIGHT
DTSTART:20190331T030000
TZNAME:CEST
TZOFFSETFROM:+0100
TZOFFSETTO:+0200
END:DAYLIGHT
BEGIN:DAYLIGHT
DTSTART:20220327T030000
TZNAME:CEST
TZOFFSETFROM:+0100
TZOFFSETTO:+0200
END:DAYLIGHT
END:VTIMEZONE
END:VCALENDAR
