BEGIN:VCALENDAR
VERSION:2.0
PRODID:-//Plone.org//NONSGML plone.app.event//EN
X-WR-TIMEZONE:Europe/Madrid
BEGIN:VEVENT
SUMMARY:GIM-RICOBER
DTSTART;TZID=Europe/Madrid:20220901T140000
DTEND;TZID=Europe/Madrid:20250831T150000
DTSTAMP:20260420T023833Z
UID:434a4974cf4942ddad6a0380c2d138f9@agrotech.upc.edu
CATEGORIES:HORPTA,Sostenibilitat,AGROPOLIS,Produccio vegetal
CREATED:20250502T131838Z
DESCRIPTION:Gestió integrada de Meloidogyne en cultius hortícoles mitjan
 çant resistència induïda i cultius de cobertura.
LAST-MODIFIED:20250529T120308Z
URL:https://agrotech.upc.edu/ca/projectes-esdeveniments/gim-ricober
END:VEVENT
BEGIN:VTIMEZONE
TZID:Europe/Madrid
X-LIC-LOCATION:Europe/Madrid
BEGIN:DAYLIGHT
DTSTART:20220327T030000
TZNAME:CEST
TZOFFSETFROM:+0100
TZOFFSETTO:+0200
END:DAYLIGHT
BEGIN:DAYLIGHT
DTSTART:20250330T030000
TZNAME:CEST
TZOFFSETFROM:+0100
TZOFFSETTO:+0200
END:DAYLIGHT
END:VTIMEZONE
END:VCALENDAR
