BEGIN:VCALENDAR
VERSION:2.0
PRODID:-//Plone.org//NONSGML plone.app.event//EN
X-WR-TIMEZONE:Europe/Madrid
BEGIN:VEVENT
SUMMARY:NEM-EMERGE
DTSTART;TZID=Europe/Madrid:20240101T130000
DTEND;TZID=Europe/Madrid:20271231T140000
DTSTAMP:20260419T183635Z
UID:a303f09532a74e559c446428128f5137@agrotech.upc.edu
CATEGORIES:HORPTA,Agricultura precisio,AGROPOLIS,Sostenibilitat
CREATED:20250502T111102Z
DESCRIPTION:Conjunt integrat de noves aproximacions per combatre l’apari
 ció i la proliferació de nematodes del sòl invasius i virulents.
LAST-MODIFIED:20250529T105802Z
URL:https://agrotech.upc.edu/ca/projectes-esdeveniments/nem-emerge
END:VEVENT
BEGIN:VTIMEZONE
TZID:Europe/Madrid
X-LIC-LOCATION:Europe/Madrid
BEGIN:STANDARD
DTSTART:20231029T020000
TZNAME:CET
TZOFFSETFROM:+0200
TZOFFSETTO:+0100
END:STANDARD
BEGIN:STANDARD
DTSTART:20271031T020000
TZNAME:CET
TZOFFSETFROM:+0200
TZOFFSETTO:+0100
END:STANDARD
END:VTIMEZONE
END:VCALENDAR
