BEGIN:VCALENDAR
VERSION:2.0
PRODID:-//Plone.org//NONSGML plone.app.event//EN
X-WR-TIMEZONE:Europe/Madrid
BEGIN:VEVENT
SUMMARY:NEW-AGRI-NOW
DTSTART;TZID=Europe/Madrid:20111001T120000
DTEND;TZID=Europe/Madrid:20131130T130000
DTSTAMP:20260420T045722Z
UID:21fdb2e5e10f4a9393feef039129c723@agrotech.upc.edu
CATEGORIES:CDEI,Agricultura precisio,Digitalitzacio
CREATED:20250425T100309Z
DESCRIPTION:Especificaciones de equipos agrícolas en base a los contextos
  socioeconómicos y energéticos.
LAST-MODIFIED:20250530T124100Z
URL:https://agrotech.upc.edu/ca/projectes-esdeveniments/new-agri-now
END:VEVENT
BEGIN:VTIMEZONE
TZID:Europe/Madrid
X-LIC-LOCATION:Europe/Madrid
BEGIN:DAYLIGHT
DTSTART:20110327T030000
TZNAME:CEST
TZOFFSETFROM:+0100
TZOFFSETTO:+0200
END:DAYLIGHT
BEGIN:STANDARD
DTSTART:20131027T020000
TZNAME:CET
TZOFFSETFROM:+0200
TZOFFSETTO:+0100
END:STANDARD
END:VTIMEZONE
END:VCALENDAR
