BEGIN:VCALENDAR
VERSION:2.0
PRODID:-//Plone.org//NONSGML plone.app.event//EN
X-WR-TIMEZONE:Europe/Madrid
BEGIN:VEVENT
SUMMARY:Xarxa LORA
DTSTART;TZID=Europe/Madrid:20200424T130000
DTEND;TZID=Europe/Madrid:20230424T140000
DTSTAMP:20260420T141609Z
UID:ff54e5d9640b40ddbf833788bea088bd@agrotech.upc.edu
CATEGORIES:WNG,Digitalitzacio
CREATED:20250424T113052Z
DESCRIPTION:Serveis IoT avançats per a xarxes LoRa en malla
LAST-MODIFIED:20250530T123258Z
URL:https://agrotech.upc.edu/ca/projectes-esdeveniments/xarxa-lora
END:VEVENT
BEGIN:VTIMEZONE
TZID:Europe/Madrid
X-LIC-LOCATION:Europe/Madrid
BEGIN:DAYLIGHT
DTSTART:20200329T030000
TZNAME:CEST
TZOFFSETFROM:+0100
TZOFFSETTO:+0200
END:DAYLIGHT
BEGIN:DAYLIGHT
DTSTART:20230326T030000
TZNAME:CEST
TZOFFSETFROM:+0100
TZOFFSETTO:+0200
END:DAYLIGHT
END:VTIMEZONE
END:VCALENDAR
